BEGIN:VCALENDAR
VERSION:2.0
PRODID:-//www.marisandozsociety.org//NONSGML kigkonsult.se iCalcreator 2.30
 .10//
CALSCALE:GREGORIAN
METHOD:PUBLISH
UID:3404aa72-a378-4f74-bdc8-0309b401e4a3
X-WR-CALDESC:Our all new version of the Story Catcher Festival will take pl
 ace on the campus of Western Colorado University on APRIL 9 and 10th\, 202
 5. We are thrilled to announce that our featured speaker will be the forme
 r Poet Laureate Joy Harjo  (JOY HARJO.Com)\n\nIn addition to our keynote e
 vent\, the festival will feature two days of writing workshops\, craft tal
 ks and panels\, additional readings and speakers across a wide range of ta
 lents and disciplines in writing and literary studies. Most of these event
 s will be free and open to the public\, and most will be streamed for thos
 e who cannot join us in person.\n\nWatch for more detailed information to 
 come.
X-WR-RELCALID:a8c342e2841cfdbe9062ba0c6dc5bfeb
X-WR-TIMEZONE:America/Denver
BEGIN:VTIMEZONE
TZID:America/Denver
BEGIN:STANDARD
TZNAME:MST
DTSTART:20241103T020000
TZOFFSETFROM:-0600
TZOFFSETTO:-0700
RDATE:20251102T020000
END:STANDARD
BEGIN:DAYLIGHT
TZNAME:MDT
DTSTART:20250309T020000
TZOFFSETFROM:-0700
TZOFFSETTO:-0600
RDATE:20260308T020000
END:DAYLIGHT
END:VTIMEZONE
BEGIN:VEVENT
UID:a332d646-53ae-428d-ae10-0aca5410ae09
DTSTAMP:20260419T143544Z
DESCRIPTION:Our all new version of the Story Catcher Festival will take pla
 ce on the campus of Western Colorado University on APRIL 9 and 10th\, 2025
 . We are thrilled to announce that our featured speaker will be the former
  Poet Laureate Joy Harjo  (JOY HARJO.Com)\n\nIn addition to our keynote ev
 ent\, the festival will feature two days of writing workshops\, craft talk
 s and panels\, additional readings and speakers across a wide range of tal
 ents and disciplines in writing and literary studies. Most of these events
  will be free and open to the public\, and most will be streamed for those
  who cannot join us in person.\n\nWatch for more detailed information to c
 ome.
DTSTART;TZID=America/Denver:20250409T040000
DTEND;TZID=America/Denver:20250410T040001
LOCATION:Western Colorado University\, Gunnison\, Colorado
SUMMARY:2025 Story Catcher Festival
END:VEVENT
END:VCALENDAR
